BEGIN:VCALENDAR
VERSION:2.0
PRODID:-//Club Optimiste de Ste-Anne de la Pérade - ECPv6.3.4//NONSGML v1.0//EN
CALSCALE:GREGORIAN
METHOD:PUBLISH
X-ORIGINAL-URL:https://cluboptimiste-sadlp.ca
X-WR-CALDESC:évènements pour Club Optimiste de Ste-Anne de la Pérade
REFRESH-INTERVAL;VALUE=DURATION:PT1H
X-Robots-Tag:noindex
X-PUBLISHED-TTL:PT1H
BEGIN:VTIMEZONE
TZID:America/Toronto
BEGIN:DAYLIGHT
TZOFFSETFROM:-0500
TZOFFSETTO:-0400
TZNAME:EDT
DTSTART:20240310T070000
END:DAYLIGHT
BEGIN:STANDARD
TZOFFSETFROM:-0400
TZOFFSETTO:-0500
TZNAME:EST
DTSTART:20241103T060000
END:STANDARD
END:VTIMEZONE
BEGIN:VEVENT
DTSTART;TZID=America/Toronto:20241207T090000
DTEND;TZID=America/Toronto:20241207T120000
DTSTAMP:20260423T105532
CREATED:20241125T155836Z
LAST-MODIFIED:20241125T160616Z
UID:25693-1733562000-1733572800@cluboptimiste-sadlp.ca
SUMMARY:Noël au Village
DESCRIPTION:Samedi 7 décembre 2024 dès 9h et jusqu’à midi \nLe Club Optimiste organise Noël au village dans la grande salle du Centre Communautaire Charles-Henri Lapointe \n\nAtelier de bougie\nChocolat chaud et café\nMini-put\n\net\, bien entendu\, le Père Noël sera là dès 11h. \n  \nON VOUS ATTEND NOMBREUX !!!
URL:https://cluboptimiste-sadlp.ca/evenement/noel-au-village/
LOCATION:Centre communautaire\, 100 Rue de la Fabrique\, Ste-Anne de la Pérade\, Quebec\, G0X2J0\, Canada
ATTACH;FMTTYPE=image/jpeg:https://cluboptimiste-sadlp.ca/wp-content/uploads/2023/11/Noel.jpg
ORGANIZER;CN="Club Optimiste":MAILTO:bureau@cluboptimiste-sadlp.ca
END:VEVENT
BEGIN:VEVENT
DTSTART;TZID=America/Toronto:20241209T080000
DTEND;TZID=America/Toronto:20241209T120000
DTSTAMP:20260423T105532
CREATED:20241125T153305Z
LAST-MODIFIED:20241125T153305Z
UID:25684-1733731200-1733745600@cluboptimiste-sadlp.ca
SUMMARY:Noël dans les garderies
DESCRIPTION:Lundi 9 décembre 2024 dans la matinée \nPassage du Père Noël optimiste dans les garderies \nCette année encore\, le club optimiste est très présent au sein de la communauté pendant la période d’avant-Noël.
URL:https://cluboptimiste-sadlp.ca/evenement/noel-dans-les-garderies/
ATTACH;FMTTYPE=image/jpeg:https://cluboptimiste-sadlp.ca/wp-content/uploads/2023/11/Noel.jpg
END:VEVENT
BEGIN:VEVENT
DTSTART;TZID=America/Toronto:20241212T090000
DTEND;TZID=America/Toronto:20241212T140000
DTSTAMP:20260423T105532
CREATED:20241125T154126Z
LAST-MODIFIED:20241125T154126Z
UID:25691-1733994000-1734012000@cluboptimiste-sadlp.ca
SUMMARY:Repas de Noël à l'école
DESCRIPTION:Jeudi 12 décembre 2024 dès 9h. \nCette année encore\, le club optimiste organise son traditionnel ragoût de boulettes à l’école primaire Madeleine de Verchères
URL:https://cluboptimiste-sadlp.ca/evenement/repas-de-noel-a-lecole-2/
LOCATION:École Madeleine-De Verchères\, 61 Rue Sainte-Anne\, Sainte-Anne-de-la-Pérade\, QC\, G0X 2J0
ATTACH;FMTTYPE=image/jpeg:https://cluboptimiste-sadlp.ca/wp-content/uploads/2023/12/Repas-Noel-2-scaled.jpg
END:VEVENT
BEGIN:VEVENT
DTSTART;TZID=America/Toronto:20241213T140000
DTEND;TZID=America/Toronto:20241213T170000
DTSTAMP:20260423T105532
CREATED:20241125T154039Z
LAST-MODIFIED:20241125T154039Z
UID:25689-1734098400-1734109200@cluboptimiste-sadlp.ca
SUMMARY:Noël au foyer
DESCRIPTION:Vendredi 13 décembre 2024 à 14h\, bingo au Foyer la Pérade \nCette année encore\, le club optimiste est très présent au sein de la communauté pendant la période d’avant-Noël.
URL:https://cluboptimiste-sadlp.ca/evenement/noel-au-foyer-2/
LOCATION:Foyer la Pérade\, 60 Rue de la Fabrique\, Sainte-Anne-de-la-Pérade\, QC\, G0X 2J0\, Canada
ATTACH;FMTTYPE=image/jpeg:https://cluboptimiste-sadlp.ca/wp-content/uploads/2023/11/Bingo-Noel-scaled.jpg
END:VEVENT
BEGIN:VEVENT
DTSTART;TZID=America/Toronto:20241214T173000
DTEND;TZID=America/Toronto:20241214T220000
DTSTAMP:20260423T105532
CREATED:20241125T153641Z
LAST-MODIFIED:20241125T153641Z
UID:25686-1734197400-1734213600@cluboptimiste-sadlp.ca
SUMMARY:Repas de Noël des Optimistes
DESCRIPTION:Événement réservé aux membres – Samedi 14 décembre 2024 \nSoirée reconnaissance et Noël des Optimistes. \nAccueil à 17h30 et repas à 18h30 \n 
URL:https://cluboptimiste-sadlp.ca/evenement/repas-de-noel-des-optimistes/
LOCATION:Domaine Seigneurial\, 910 Rue Sainte-Anne\, Sainte-Anne-De-La-Pérade\, QC\, G0X 2J0\, Canada
ATTACH;FMTTYPE=image/jpeg:https://cluboptimiste-sadlp.ca/wp-content/uploads/2023/11/Repas-Noel.jpg
END:VEVENT
END:VCALENDAR