BEGIN:VCALENDAR
VERSION:2.0
PRODID:-//Club Optimiste de Ste-Anne de la Pérade - ECPv6.3.4//NONSGML v1.0//EN
CALSCALE:GREGORIAN
METHOD:PUBLISH
X-WR-CALNAME:Club Optimiste de Ste-Anne de la Pérade
X-ORIGINAL-URL:https://cluboptimiste-sadlp.ca
X-WR-CALDESC:évènements pour Club Optimiste de Ste-Anne de la Pérade
REFRESH-INTERVAL;VALUE=DURATION:PT1H
X-Robots-Tag:noindex
X-PUBLISHED-TTL:PT1H
BEGIN:VTIMEZONE
TZID:America/Toronto
BEGIN:DAYLIGHT
TZOFFSETFROM:-0500
TZOFFSETTO:-0400
TZNAME:EDT
DTSTART:20250309T070000
END:DAYLIGHT
BEGIN:STANDARD
TZOFFSETFROM:-0400
TZOFFSETTO:-0500
TZNAME:EST
DTSTART:20251102T060000
END:STANDARD
END:VTIMEZONE
BEGIN:VEVENT
DTSTART;TZID=America/Toronto:20250322T140000
DTEND;TZID=America/Toronto:20250322T200000
DTSTAMP:20260423T061127
CREATED:20250319T135109Z
LAST-MODIFIED:20250319T135109Z
UID:25719-1742652000-1742673600@cluboptimiste-sadlp.ca
SUMMARY:Opti-génie adultes
DESCRIPTION:Samedi 22 mars 2025 à partir de 14h \nCoût d’inscription : 20$ / participant (inclut le souper pizza) \nLes non-participants désirant souper doivent aviser à l’avance. Coût : 15$ \nInscription et informations : Gilles Devault (418) 325-3057 ou ggpdev81@gmail.com
URL:https://cluboptimiste-sadlp.ca/evenement/opti-genie-adultes-2/
LOCATION:Centre communautaire\, 100 Rue de la Fabrique\, Ste-Anne de la Pérade\, Quebec\, G0X2J0\, Canada
ATTACH;FMTTYPE=image/jpeg:https://cluboptimiste-sadlp.ca/wp-content/uploads/2024/02/Question3.jpg
END:VEVENT
BEGIN:VEVENT
DTSTART;TZID=America/Toronto:20250328T184500
DTEND;TZID=America/Toronto:20250328T220000
DTSTAMP:20260423T061127
CREATED:20250319T135250Z
LAST-MODIFIED:20250319T135250Z
UID:25721-1743187500-1743199200@cluboptimiste-sadlp.ca
SUMMARY:Whist militaire
DESCRIPTION:Les prochaines dates à 18h45 : \n\n28 mars\n25 avril\n30 mai\n\nInscription obligatoire auprès de René Allard (819) 383-5406
URL:https://cluboptimiste-sadlp.ca/evenement/whist-militaire-2/
LOCATION:FADOQ
ATTACH;FMTTYPE=image/png:https://cluboptimiste-sadlp.ca/wp-content/uploads/2023/12/playing-cards-2091948_640.png
END:VEVENT
END:VCALENDAR